BEGIN:VCALENDAR
VERSION:2.0
PRODID:-//Sabre//Sabre VObject 4.5.8//EN
CALSCALE:GREGORIAN
BEGIN:VEVENT
UID:sabre-vobject-01e34ccd-4145-4ddb-a666-86de87048f69
DTSTAMP:20260423T003205Z
SUMMARY:Hl. Messe d. kroat. Gemeinde
DESCRIPTION:https://www2.bistum-augsburg.de/gottesdienste/hl-messe-d-kroat-
 gemeinde_id1715135
DTSTART;TZID=Europe/Berlin:20260424T183000
DURATION:PT30M
LOCATION:St. Johann Baptist
END:VEVENT
END:VCALENDAR
