BEGIN:VCALENDAR
VERSION:2.0
PRODID:-//Sabre//Sabre VObject 4.5.8//EN
CALSCALE:GREGORIAN
BEGIN:VEVENT
UID:sabre-vobject-b648285b-503c-4965-8107-cbeb6bec8aff
DTSTAMP:20260424T200659Z
SUMMARY:1. feierliche Maiandacht
DESCRIPTION:https://www2.bistum-augsburg.de/gottesdienste/1-feierliche-maia
 ndacht_id1715147
DTSTART;TZID=Europe/Berlin:20260501T190000
DURATION:PT30M
LOCATION:Mariä Himmelfahrt
END:VEVENT
END:VCALENDAR
