BEGIN:VCALENDAR
VERSION:2.0
PRODID:-//Sabre//Sabre VObject 4.5.8//EN
CALSCALE:GREGORIAN
BEGIN:VEVENT
UID:sabre-vobject-6559085a-c6c6-421e-a4ef-c18c9c8d1b89
DTSTAMP:20260423T021608Z
SUMMARY:Hl. Messe (AWO-Seniorenzentrum)
DESCRIPTION:https://www2.bistum-augsburg.de/gottesdienste/hl-messe-awo-seni
 orenzentrum_id1715169
DTSTART;TZID=Europe/Berlin:20260428T160000
DURATION:PT30M
LOCATION:St. Johann Baptist
END:VEVENT
END:VCALENDAR
