BEGIN:VCALENDAR
VERSION:2.0
PRODID:-//Sabre//Sabre VObject 4.5.8//EN
CALSCALE:GREGORIAN
BEGIN:VEVENT
UID:sabre-vobject-15b80fa6-f2e4-4541-b1ae-6520b9d867b1
DTSTAMP:20260424T084015Z
SUMMARY:Eucharistiefeier
DESCRIPTION:https://www2.bistum-augsburg.de/gottesdienste/eucharistiefeier_
 id1715175
DTSTART;TZID=Europe/Berlin:20260426T100000
DURATION:PT30M
LOCATION:St. Peter und Paul\, Pfarrer-Steinacker-Straße 56\, 86551 Ecknach
END:VEVENT
END:VCALENDAR
