BEGIN:VCALENDAR
VERSION:2.0
PRODID:-//Sabre//Sabre VObject 4.5.8//EN
CALSCALE:GREGORIAN
BEGIN:VEVENT
UID:sabre-vobject-e569461f-46b3-40af-bfd6-228a469629f4
DTSTAMP:20260423T191132Z
SUMMARY:Heilige Messe mit Kreuzsegen
DESCRIPTION:https://www2.bistum-augsburg.de/gottesdienste/heilige-messe-mit
 -kreuzsegen_id1715182
DTSTART;TZID=Europe/Berlin:20260424T080000
DURATION:PT30M
LOCATION:Zu Unserer Lieben Frau\, Münsterpl. 1\, 86609 Donauwörth
END:VEVENT
END:VCALENDAR
