BEGIN:VCALENDAR
VERSION:2.0
PRODID:-//Sabre//Sabre VObject 4.5.8//EN
CALSCALE:GREGORIAN
BEGIN:VEVENT
UID:sabre-vobject-9aa65a8e-262a-4d06-a494-aad7022d9a64
DTSTAMP:20260425T023528Z
SUMMARY:Segnung des neuen Maibaums\, anschl. Maibaumfeier
DESCRIPTION:https://www2.bistum-augsburg.de/gottesdienste/segnung-des-neuen
 -maibaums-anschl-maibaumfeier_id1715186
DTSTART;TZID=Europe/Berlin:20260501T100000
DURATION:PT30M
LOCATION:St. Johannes Baptist
END:VEVENT
END:VCALENDAR
