BEGIN:VCALENDAR
VERSION:2.0
PRODID:-//Sabre//Sabre VObject 4.5.8//EN
CALSCALE:GREGORIAN
BEGIN:VEVENT
UID:sabre-vobject-10126137-04a3-46d8-8afe-3b0981a196d7
DTSTAMP:20260423T110809Z
SUMMARY:Laudes
DESCRIPTION:https://www2.bistum-augsburg.de/gottesdienste/laudes_id1715193
DTSTART;TZID=Europe/Berlin:20260430T090000
DURATION:PT30M
LOCATION:St. Johann Baptist
END:VEVENT
END:VCALENDAR
