BEGIN:VCALENDAR
VERSION:2.0
PRODID:-//Sabre//Sabre VObject 4.5.8//EN
CALSCALE:GREGORIAN
BEGIN:VEVENT
UID:sabre-vobject-686f43dc-358b-4cf1-af22-58d598210c35
DTSTAMP:20260425T035159Z
SUMMARY:Feierliche Maiandacht (Musik: Kirchenchor d. PG)
DESCRIPTION:https://www2.bistum-augsburg.de/gottesdienste/feierliche-maiand
 acht-musik-kirchenchor-d-pg_id1715196
DTSTART;TZID=Europe/Berlin:20260501T180000
DURATION:PT30M
LOCATION:St. Johann Baptist
END:VEVENT
END:VCALENDAR
