BEGIN:VCALENDAR
VERSION:2.0
PRODID:-//Sabre//Sabre VObject 4.5.8//EN
CALSCALE:GREGORIAN
BEGIN:VEVENT
UID:sabre-vobject-f41b45b4-071d-49fb-ae59-3d5de81a807f
DTSTAMP:20260424T131334Z
SUMMARY:Heilige Messe in kroatischer Sprache
DESCRIPTION:https://www2.bistum-augsburg.de/gottesdienste/heilige-messe-in-
 kroatischer-sprache_id1715209
DTSTART;TZID=Europe/Berlin:20260510T160000
DURATION:PT30M
LOCATION:Zu den Heiligen Engeln
END:VEVENT
END:VCALENDAR
