BEGIN:VCALENDAR
VERSION:2.0
PRODID:-//Sabre//Sabre VObject 4.5.8//EN
CALSCALE:GREGORIAN
BEGIN:VEVENT
UID:sabre-vobject-e0af5397-00bf-4c12-adac-876c0010f98c
DTSTAMP:20260422T211838Z
SUMMARY:Hl. Messe d. poln. Gemeinde
DESCRIPTION:https://www2.bistum-augsburg.de/gottesdienste/hl-messe-d-poln-g
 emeinde_id1715216
DTSTART;TZID=Europe/Berlin:20260501T110000
DURATION:PT30M
LOCATION:St. Albert
END:VEVENT
END:VCALENDAR
