BEGIN:VCALENDAR
VERSION:2.0
PRODID:-//Sabre//Sabre VObject 4.5.8//EN
CALSCALE:GREGORIAN
BEGIN:VEVENT
UID:sabre-vobject-0ded6756-dfaf-425e-b40a-e3785e17dcd5
DTSTAMP:20260423T110752Z
SUMMARY:Maibaumsegnung (Pfarrstadel)
DESCRIPTION:https://www2.bistum-augsburg.de/gottesdienste/maibaumsegnung-pf
 arrstadel_id1715221
DTSTART;TZID=Europe/Berlin:20260430T180000
DURATION:PT30M
LOCATION:St. Mammas
END:VEVENT
END:VCALENDAR
