BEGIN:VCALENDAR
VERSION:2.0
PRODID:-//Sabre//Sabre VObject 4.5.8//EN
CALSCALE:GREGORIAN
BEGIN:VEVENT
UID:sabre-vobject-994ceb7f-51fe-45ad-93e9-606c9b49bba2
DTSTAMP:20260420T074405Z
SUMMARY:PfGD:
DESCRIPTION:https://www2.bistum-augsburg.de/gottesdienste/pfgd_id1715237
DTSTART;TZID=Europe/Berlin:20260503T084500
DURATION:PT30M
LOCATION:St. Vitus
END:VEVENT
END:VCALENDAR
