BEGIN:VCALENDAR
VERSION:2.0
PRODID:-//Sabre//Sabre VObject 4.5.8//EN
CALSCALE:GREGORIAN
BEGIN:VEVENT
UID:sabre-vobject-85ce3d39-f7e8-4a9d-9c52-c668f52835c0
DTSTAMP:20260425T141200Z
SUMMARY:Maiandacht gestaltet vom Team "ANGEDACHT"
DESCRIPTION:https://www2.bistum-augsburg.de/gottesdienste/maiandacht-gestal
 tet-vom-team-angedacht_id1715238
DTSTART;TZID=Europe/Berlin:20260503T190000
DURATION:PT30M
LOCATION:St. Vitus
END:VEVENT
END:VCALENDAR
