BEGIN:VCALENDAR
VERSION:2.0
PRODID:-//Sabre//Sabre VObject 4.5.8//EN
CALSCALE:GREGORIAN
BEGIN:VEVENT
UID:sabre-vobject-8336232a-c1d2-43a0-8aa4-5759e9a3b5e6
DTSTAMP:20260424T030025Z
SUMMARY:Krankenkommunion
DESCRIPTION:https://www2.bistum-augsburg.de/gottesdienste/krankenkommunion_
 id1715239
DTSTART;TZID=Europe/Berlin:20260506T164500
DURATION:PT30M
LOCATION:St. Vitus
END:VEVENT
END:VCALENDAR
