BEGIN:VCALENDAR
VERSION:2.0
PRODID:-//Sabre//Sabre VObject 4.5.8//EN
CALSCALE:GREGORIAN
BEGIN:VEVENT
UID:sabre-vobject-1a2a86c2-51c6-4e9e-b5a2-dec44da7c4ed
DTSTAMP:20260425T033222Z
SUMMARY:Hl. M.:
DESCRIPTION:https://www2.bistum-augsburg.de/gottesdienste/hl-m_id1715240
DTSTART;TZID=Europe/Berlin:20260506T190000
DURATION:PT30M
LOCATION:St. Vitus
END:VEVENT
END:VCALENDAR
