BEGIN:VCALENDAR
VERSION:2.0
PRODID:-//Sabre//Sabre VObject 4.5.8//EN
CALSCALE:GREGORIAN
BEGIN:VEVENT
UID:sabre-vobject-1555041b-e2b1-4261-a4c6-b9415a9841b6
DTSTAMP:20260424T003633Z
SUMMARY:PfGD mit Meridian "Monatskollekte":
DESCRIPTION:https://www2.bistum-augsburg.de/gottesdienste/pfgd-mit-meridian
 -monatskollekte_id1715242
DTSTART;TZID=Europe/Berlin:20260503T100000
DURATION:PT30M
LOCATION:St. Georg\, Kirchberg 3\, 86517 Wehringen
END:VEVENT
END:VCALENDAR
