BEGIN:VCALENDAR
VERSION:2.0
PRODID:-//Sabre//Sabre VObject 4.5.8//EN
CALSCALE:GREGORIAN
BEGIN:VEVENT
UID:sabre-vobject-ab52a9b4-a56b-43e1-977f-277635510dfb
DTSTAMP:20260420T041655Z
SUMMARY:Maiandacht
DESCRIPTION:https://www2.bistum-augsburg.de/gottesdienste/maiandacht_id1715
 251
DTSTART;TZID=Europe/Berlin:20260506T190000
DURATION:PT30M
LOCATION:St. Silvester\, Kirchweg 4a\, 86856 Hiltenfingen
END:VEVENT
END:VCALENDAR
