BEGIN:VCALENDAR
VERSION:2.0
PRODID:-//Sabre//Sabre VObject 4.5.8//EN
CALSCALE:GREGORIAN
BEGIN:VEVENT
UID:sabre-vobject-84f3042a-44c8-48c2-9cb0-fb7bb48a2745
DTSTAMP:20260423T021320Z
SUMMARY:Eucharistiefeier mit Tauffeier von Valentina Antonia Schweiger  \n\
 n
DESCRIPTION:https://www2.bistum-augsburg.de/gottesdienste/eucharistiefeier-
 mit-tauffeier-von-valentina-antonia-schweiger_id1715420
DTSTART;TZID=Europe/Berlin:20260503T104500
DURATION:PT30M
LOCATION:St. Georg und Michael
END:VEVENT
END:VCALENDAR
