BEGIN:VCALENDAR
VERSION:2.0
PRODID:-//Sabre//Sabre VObject 4.5.8//EN
CALSCALE:GREGORIAN
BEGIN:VEVENT
UID:sabre-vobject-d04c8dac-63bc-4d30-ac0f-9418ff10ecd8
DTSTAMP:20260423T180221Z
SUMMARY:Hl. Messe in St. Wolfhard im Thaddäus-Zentrum
DESCRIPTION:https://www2.bistum-augsburg.de/gottesdienste/hl-messe-in-st-wo
 lfhard-im-thaddaeus-zentrum_id1715426
DTSTART;TZID=Europe/Berlin:20260503T110000
DURATION:PT30M
LOCATION:St. Thaddäus\, Ulmer Str. 63\, 86156 Augsburg-Kriegshaber
END:VEVENT
END:VCALENDAR
