BEGIN:VCALENDAR
VERSION:2.0
PRODID:-//Sabre//Sabre VObject 4.5.8//EN
CALSCALE:GREGORIAN
BEGIN:VEVENT
UID:sabre-vobject-8cbbd0f6-5a62-48c2-bab7-534c2d3ea35a
DTSTAMP:20260422T194241Z
SUMMARY:Heilige Messe Slowakische Mission
DESCRIPTION:https://www2.bistum-augsburg.de/gottesdienste/heilige-messe-slo
 wakische-mission_id1715428
DTSTART;TZID=Europe/Berlin:20260503T170000
DURATION:PT30M
LOCATION:Don Bosco
END:VEVENT
END:VCALENDAR
