BEGIN:VCALENDAR
VERSION:2.0
PRODID:-//Sabre//Sabre VObject 4.5.8//EN
CALSCALE:GREGORIAN
BEGIN:VEVENT
UID:sabre-vobject-f822a758-8c3c-4838-9fa8-34c7e712f4f0
DTSTAMP:20260420T074329Z
SUMMARY:Tauffeier
DESCRIPTION:https://www2.bistum-augsburg.de/gottesdienste/tauffeier_id17154
 64
DTSTART;TZID=Europe/Berlin:20260503T114500
DURATION:PT30M
LOCATION:St. Ulrich und Afra
END:VEVENT
END:VCALENDAR
