BEGIN:VCALENDAR
VERSION:2.0
PRODID:-//Sabre//Sabre VObject 4.5.8//EN
CALSCALE:GREGORIAN
BEGIN:VEVENT
UID:sabre-vobject-1b0fe116-040d-48fd-8311-d0e3d4614ffe
DTSTAMP:20260420T055806Z
SUMMARY:Gottesdienst im Sparkassenaltenheim
DESCRIPTION:https://www2.bistum-augsburg.de/gottesdienste/gottesdienst-im-s
 parkassenaltenheim_id1715485
DTSTART;TZID=Europe/Berlin:20260502T150000
DURATION:PT30M
LOCATION:St. Ulrich und Afra
END:VEVENT
END:VCALENDAR
