BEGIN:VCALENDAR
VERSION:2.0
PRODID:-//Sabre//Sabre VObject 4.5.8//EN
CALSCALE:GREGORIAN
BEGIN:VEVENT
UID:sabre-vobject-50f711c6-eedf-48a9-bea8-21ee9f95c282
DTSTAMP:20260424T001408Z
SUMMARY:Hl. Messe
DESCRIPTION:https://www2.bistum-augsburg.de/gottesdienste/hl-messe_id171550
 6
DTSTART;TZID=Europe/Berlin:20260424T080000
DURATION:PT30M
LOCATION:Kuratie St. Georg
END:VEVENT
END:VCALENDAR
