BEGIN:VCALENDAR
VERSION:2.0
PRODID:-//Sabre//Sabre VObject 4.5.8//EN
CALSCALE:GREGORIAN
BEGIN:VEVENT
UID:sabre-vobject-c82aa7cd-a006-4e6d-84aa-875b1a8cbc95
DTSTAMP:20260424T030159Z
SUMMARY:Hl. Messe in der Unterkirche
DESCRIPTION:https://www2.bistum-augsburg.de/gottesdienste/hl-messe-in-der-u
 nterkirche_id1715515
DTSTART;TZID=Europe/Berlin:20260505T090000
DURATION:PT30M
LOCATION:St. Thaddäus\, Ulmer Str. 63\, 86156 Augsburg-Kriegshaber
END:VEVENT
END:VCALENDAR
