BEGIN:VCALENDAR
VERSION:2.0
PRODID:-//Sabre//Sabre VObject 4.5.8//EN
CALSCALE:GREGORIAN
BEGIN:VEVENT
UID:sabre-vobject-8e4adab2-f165-46a0-8f63-f34c7e17d081
DTSTAMP:20260424T001337Z
SUMMARY:Gottesdienst der Kath. Afrikanischen Gemeinde Augsburg \nin deutsch
 er/englischer/französischer Sprache\nin St. Wolfhard im Thaddäus-Zentrum
  \nanschließend Anbetung
DESCRIPTION:https://www2.bistum-augsburg.de/gottesdienste/gottesdienst-der-
 kath-afrikanischen-gemeinde-augsburg-in-deutscher-englischer-franzoesische
 r-sprache-in-st-wolfhard-im-thaddaeus-zentrum-anschliessend-anbetung_id171
 5540
DTSTART;TZID=Europe/Berlin:20260503T140000
DURATION:PT30M
LOCATION:St. Thaddäus\, Ulmer Str. 63\, 86156 Augsburg-Kriegshaber
END:VEVENT
END:VCALENDAR
