BEGIN:VCALENDAR
VERSION:2.0
PRODID:-//Sabre//Sabre VObject 4.5.8//EN
CALSCALE:GREGORIAN
BEGIN:VEVENT
UID:sabre-vobject-4962a0dd-04fd-48b7-9cb0-eeeba43dbe89
DTSTAMP:20260423T205021Z
SUMMARY:Gebet um geistliche und kirchliche Berufe
DESCRIPTION:https://www2.bistum-augsburg.de/gottesdienste/gebet-um-geistlic
 he-und-kirchliche-berufe_id1715575
DTSTART;TZID=Europe/Berlin:20260507T170000
DURATION:PT30M
LOCATION:Hlgst. Herz Jesu
END:VEVENT
END:VCALENDAR
