BEGIN:VCALENDAR
VERSION:2.0
PRODID:-//Sabre//Sabre VObject 4.5.8//EN
CALSCALE:GREGORIAN
BEGIN:VEVENT
UID:sabre-vobject-50cfa9db-fa52-4e29-92a6-ddf37293310e
DTSTAMP:20260419T131022Z
SUMMARY:Hl. Messe\, anschließend eucharistische Anbetung bis 19:30 Uhr
DESCRIPTION:https://www2.bistum-augsburg.de/gottesdienste/hl-messe-anschlie
 ssend-eucharistische-anbetung-bis-19-30-uhr_id1715578
DTSTART;TZID=Europe/Berlin:20260508T183000
DURATION:PT30M
LOCATION:Hlgst. Herz Jesu
END:VEVENT
END:VCALENDAR
