BEGIN:VCALENDAR
VERSION:2.0
PRODID:-//Sabre//Sabre VObject 4.5.8//EN
CALSCALE:GREGORIAN
BEGIN:VEVENT
UID:sabre-vobject-3aedaaa9-a629-4c3c-8b3f-7dc9afd7dfc9
DTSTAMP:20260424T093925Z
SUMMARY:Beichtgelegenheit / geistl. Gespräch (P. Joseph)
DESCRIPTION:https://www2.bistum-augsburg.de/gottesdienste/beichtgelegenheit
 -geistl-gespraech-p-joseph_id1715646
DTSTART;TZID=Europe/Berlin:20260507T170000
DURATION:PT30M
LOCATION:St. Michael
END:VEVENT
END:VCALENDAR
