BEGIN:VCALENDAR
VERSION:2.0
PRODID:-//Sabre//Sabre VObject 4.5.8//EN
CALSCALE:GREGORIAN
BEGIN:VEVENT
UID:sabre-vobject-c767f94b-fd60-41bf-99ca-ef9f4bda58c3
DTSTAMP:20260424T174602Z
SUMMARY:Rosenkranz
DESCRIPTION:https://www2.bistum-augsburg.de/gottesdienste/rosenkranz_id1715
 808
DTSTART;TZID=Europe/Berlin:20260503T093000
DURATION:PT30M
LOCATION:St. Peter\, Pfarrer-Wittmann-Platz 2\, 86447 Stotzard
END:VEVENT
END:VCALENDAR
