BEGIN:VCALENDAR
VERSION:2.0
PRODID:-//Sabre//Sabre VObject 4.5.8//EN
CALSCALE:GREGORIAN
BEGIN:VEVENT
UID:sabre-vobject-50c65336-cf75-4358-b896-405cce556873
DTSTAMP:20260420T040707Z
SUMMARY:RK in den Anliegen der Pilger u. BG
DESCRIPTION:https://www2.bistum-augsburg.de/gottesdienste/rk-in-den-anliege
 n-der-pilger-u-bg_id1715838
DTSTART;TZID=Europe/Berlin:20260502T143000
DURATION:PT30M
LOCATION:Mariä Himmelfahrt
END:VEVENT
END:VCALENDAR
