BEGIN:VCALENDAR
VERSION:2.0
PRODID:-//Sabre//Sabre VObject 4.5.8//EN
CALSCALE:GREGORIAN
BEGIN:VEVENT
UID:sabre-vobject-effb6a7e-87a8-49d3-b35b-b419866b95b6
DTSTAMP:20260424T033229Z
SUMMARY:Pfarrgottesdienst
DESCRIPTION:https://www2.bistum-augsburg.de/gottesdienste/pfarrgottesdienst
 _id1715854
DTSTART;TZID=Europe/Berlin:20260510T090000
DURATION:PT30M
LOCATION:St. Martin\, Dorfstraße 5\, 87547 Missen-Wilhams
END:VEVENT
END:VCALENDAR
