BEGIN:VCALENDAR
VERSION:2.0
PRODID:-//Sabre//Sabre VObject 4.5.8//EN
CALSCALE:GREGORIAN
BEGIN:VEVENT
UID:sabre-vobject-a4e65fd4-b8da-494e-9392-ee7e9ad6d621
DTSTAMP:20260423T124944Z
SUMMARY:Maiandacht f. Kinder gest. v. PGR
DESCRIPTION:https://www2.bistum-augsburg.de/gottesdienste/maiandacht-f-kind
 er-gest-v-pgr_id1715865
DTSTART;TZID=Europe/Berlin:20260507T170000
DURATION:PT30M
LOCATION:St. Oswald
END:VEVENT
END:VCALENDAR
