BEGIN:VCALENDAR
VERSION:2.0
PRODID:-//Sabre//Sabre VObject 4.5.8//EN
CALSCALE:GREGORIAN
BEGIN:VEVENT
UID:sabre-vobject-3a07c7c6-d349-4274-9831-03f00013fc09
DTSTAMP:20260424T194418Z
SUMMARY:Hl. Messe zu Ehren des hl. Florian\, gestaltet von den Mitgliedern 
 der Feuerwehr und dem Kirchenchor
DESCRIPTION:https://www2.bistum-augsburg.de/gottesdienste/hl-messe-zu-ehren
 -des-hl-florian-gestaltet-von-den-mitgliedern-der-feuerwehr-und-dem-kirche
 nchor_id1715879
DTSTART;TZID=Europe/Berlin:20260503T100000
DURATION:PT30M
LOCATION:St. Peter\, Pfarrer-Wittmann-Platz 2\, 86447 Stotzard
END:VEVENT
END:VCALENDAR
