BEGIN:VCALENDAR
VERSION:2.0
PRODID:-//Sabre//Sabre VObject 4.5.8//EN
CALSCALE:GREGORIAN
BEGIN:VEVENT
UID:sabre-vobject-c5bf2f82-4d81-4a8a-a6f2-b65a7c30491f
DTSTAMP:20260420T074518Z
SUMMARY:Dankandacht für alle Kommunionkinder
DESCRIPTION:https://www2.bistum-augsburg.de/gottesdienste/dankandacht-fuer-
 alle-kommunionkinder_id1715880
DTSTART;TZID=Europe/Berlin:20260426T183000
DURATION:PT30M
LOCATION:St. Martin
END:VEVENT
END:VCALENDAR
