BEGIN:VCALENDAR
VERSION:2.0
PRODID:-//Sabre//Sabre VObject 4.5.8//EN
CALSCALE:GREGORIAN
BEGIN:VEVENT
UID:sabre-vobject-d1681864-46b5-4d3c-b8fe-061765a5db91
DTSTAMP:20260422T125930Z
SUMMARY:Andacht i.d. Nikolauskapelle
DESCRIPTION:https://www2.bistum-augsburg.de/gottesdienste/andacht-i-d-nikol
 auskapelle_id1715914
DTSTART;TZID=Europe/Berlin:20260420T190000
DURATION:PT30M
LOCATION:St. Martin\, Dorfstraße 5\, 87547 Missen-Wilhams
END:VEVENT
END:VCALENDAR
