BEGIN:VCALENDAR
VERSION:2.0
PRODID:-//Sabre//Sabre VObject 4.5.8//EN
CALSCALE:GREGORIAN
BEGIN:VEVENT
UID:sabre-vobject-b9496d53-1128-41fb-b975-bcb7e3a12bac
DTSTAMP:20260423T160856Z
SUMMARY:Rosenkranz
DESCRIPTION:https://www2.bistum-augsburg.de/gottesdienste/rosenkranz_id1715
 974
DTSTART;TZID=Europe/Berlin:20260510T094500
DURATION:PT30M
LOCATION:St. Peter und Paul\, Am Anger 3\, 87509 Eckarts
END:VEVENT
END:VCALENDAR
