BEGIN:VCALENDAR
VERSION:2.0
PRODID:-//Sabre//Sabre VObject 4.5.8//EN
CALSCALE:GREGORIAN
BEGIN:VEVENT
UID:sabre-vobject-a8374bcf-dfd5-4503-b358-6fc0f01bc027
DTSTAMP:20260423T175301Z
SUMMARY:Maiandacht a.d. Burgruine Werdenstein
DESCRIPTION:https://www2.bistum-augsburg.de/gottesdienste/maiandacht-a-d-bu
 rgruine-werdenstein_id1715982
DTSTART;TZID=Europe/Berlin:20260510T190000
DURATION:PT30M
LOCATION:St. Peter und Paul\, Am Anger 3\, 87509 Eckarts
END:VEVENT
END:VCALENDAR
