BEGIN:VCALENDAR
VERSION:2.0
PRODID:-//Sabre//Sabre VObject 4.5.8//EN
CALSCALE:GREGORIAN
BEGIN:VEVENT
UID:sabre-vobject-dc848ee5-e211-4b13-8f6f-a7ce3520f12d
DTSTAMP:20260425T192341Z
SUMMARY:Eucharistiefeier anschließend eucharistische Anbetung
DESCRIPTION:https://www2.bistum-augsburg.de/gottesdienste/eucharistiefeier-
 anschliessend-eucharistische-anbetung_id1716000
DTSTART;TZID=Europe/Berlin:20260519T180000
DURATION:PT30M
LOCATION:Don Bosco
END:VEVENT
END:VCALENDAR
