BEGIN:VCALENDAR
VERSION:2.0
PRODID:-//Sabre//Sabre VObject 4.5.8//EN
CALSCALE:GREGORIAN
BEGIN:VEVENT
UID:sabre-vobject-71e4001d-09ca-4d05-bae5-a4d4ef81fa03
DTSTAMP:20260424T074846Z
SUMMARY:Eucharistiefeier
DESCRIPTION:https://www2.bistum-augsburg.de/gottesdienste/eucharistiefeier_
 id1716002
DTSTART;TZID=Europe/Berlin:20260521T090000
DURATION:PT30M
LOCATION:Don Bosco
END:VEVENT
END:VCALENDAR
