BEGIN:VCALENDAR
VERSION:2.0
PRODID:-//Sabre//Sabre VObject 4.5.8//EN
CALSCALE:GREGORIAN
BEGIN:VEVENT
UID:sabre-vobject-01d273e7-8fa8-4c87-865b-4c2df4a043aa
DTSTAMP:20260425T112021Z
SUMMARY:Eucharistiefeier
DESCRIPTION:https://www2.bistum-augsburg.de/gottesdienste/eucharistiefeier_
 id1716010
DTSTART;TZID=Europe/Berlin:20260730T090000
DURATION:PT30M
LOCATION:Don Bosco
END:VEVENT
END:VCALENDAR
