BEGIN:VCALENDAR
VERSION:2.0
PRODID:-//Sabre//Sabre VObject 4.5.8//EN
CALSCALE:GREGORIAN
BEGIN:VEVENT
UID:sabre-vobject-5c31be7f-4012-4826-87bc-2edd2c8a2872
DTSTAMP:20260422T142221Z
SUMMARY:Rosenkranz
DESCRIPTION:https://www2.bistum-augsburg.de/gottesdienste/rosenkranz_id1716
 070
DTSTART;TZID=Europe/Berlin:20260420T190000
DURATION:PT30M
LOCATION:St. Silvester\, Kirchweg 4a\, 86856 Hiltenfingen
END:VEVENT
END:VCALENDAR
