BEGIN:VCALENDAR
VERSION:2.0
PRODID:-//Sabre//Sabre VObject 4.5.8//EN
CALSCALE:GREGORIAN
BEGIN:VEVENT
UID:sabre-vobject-6c81bbdb-9803-407e-be6f-14db6a990d36
DTSTAMP:20260424T231317Z
SUMMARY:Altenberger Rosenkranz
DESCRIPTION:https://www2.bistum-augsburg.de/gottesdienste/altenberger-rosen
 kranz_id1716073
DTSTART;TZID=Europe/Berlin:20260711T174500
DURATION:PT30M
LOCATION:Don Bosco
END:VEVENT
END:VCALENDAR
