BEGIN:VCALENDAR
VERSION:2.0
PRODID:-//Sabre//Sabre VObject 4.5.8//EN
CALSCALE:GREGORIAN
BEGIN:VEVENT
UID:sabre-vobject-edd3098f-1897-44ca-acbf-25760e7d1066
DTSTAMP:20260426T002343Z
SUMMARY:Morgengebet anschl. Fair-Handelsfrühstück
DESCRIPTION:https://www2.bistum-augsburg.de/gottesdienste/morgengebet-ansch
 l-fair-handelsfruehstueck_id1716078
DTSTART;TZID=Europe/Berlin:20260714T080000
DURATION:PT30M
LOCATION:Don Bosco
END:VEVENT
END:VCALENDAR
