BEGIN:VCALENDAR
VERSION:2.0
PRODID:-//Sabre//Sabre VObject 4.5.8//EN
CALSCALE:GREGORIAN
BEGIN:VEVENT
UID:sabre-vobject-f2985daa-5a43-4a03-b509-144cc47ae4da
DTSTAMP:20260419T204948Z
SUMMARY:Altenberger Rosenkranz
DESCRIPTION:https://www2.bistum-augsburg.de/gottesdienste/altenberger-rosen
 kranz_id1716099
DTSTART;TZID=Europe/Berlin:20260829T174500
DURATION:PT30M
LOCATION:Don Bosco
END:VEVENT
END:VCALENDAR
