BEGIN:VCALENDAR
VERSION:2.0
PRODID:-//Sabre//Sabre VObject 4.5.8//EN
CALSCALE:GREGORIAN
BEGIN:VEVENT
UID:sabre-vobject-c5dd611d-dd5f-4eed-b387-92a4d18b938d
DTSTAMP:20260420T021423Z
SUMMARY:Herz-Mariä-Sühnesamstag mit Andacht\, Rosenkranz und Beichtgelege
 nheit im Haus St. Josef in der Nebelhornstr. 25
DESCRIPTION:https://www2.bistum-augsburg.de/gottesdienste/herz-mariae-suehn
 esamstag-mit-andacht-rosenkranz-und-beichtgelegenheit-im-haus-st-josef-in-
 der-nebelhornstr-25_id1716110
DTSTART;TZID=Europe/Berlin:20260502T143000
DURATION:PT30M
LOCATION:Zwölf Apostel
END:VEVENT
END:VCALENDAR
