BEGIN:VCALENDAR
VERSION:2.0
PRODID:-//Sabre//Sabre VObject 4.5.8//EN
CALSCALE:GREGORIAN
BEGIN:VEVENT
UID:sabre-vobject-63311af3-43e7-4b66-a84f-df264864dd88
DTSTAMP:20260423T124045Z
SUMMARY:Rosenkranz
DESCRIPTION:https://www2.bistum-augsburg.de/gottesdienste/rosenkranz_id1716
 112
DTSTART;TZID=Europe/Berlin:20260502T174500
DURATION:PT30M
LOCATION:Zwölf Apostel
END:VEVENT
END:VCALENDAR
