BEGIN:VCALENDAR
VERSION:2.0
PRODID:-//Sabre//Sabre VObject 4.5.8//EN
CALSCALE:GREGORIAN
BEGIN:VEVENT
UID:sabre-vobject-c8c4ec89-05ba-4ffa-8132-108038e19c24
DTSTAMP:20260425T161721Z
SUMMARY:Heilige Messe rumänisch-orthodoxe Gemeinde
DESCRIPTION:https://www2.bistum-augsburg.de/gottesdienste/heilige-messe-rum
 aenisch-orthodoxe-gemeinde_id1716199
DTSTART;TZID=Europe/Berlin:20260913T110000
DURATION:PT30M
LOCATION:Don Bosco
END:VEVENT
END:VCALENDAR
