BEGIN:VCALENDAR
VERSION:2.0
PRODID:-//Sabre//Sabre VObject 4.5.8//EN
CALSCALE:GREGORIAN
BEGIN:VEVENT
UID:sabre-vobject-c8c6b3f1-2354-43ae-b6ee-1bc0bb07d16d
DTSTAMP:20260424T185952Z
SUMMARY:Rosenkranz im Haus St. Josef in der Nebelhornstraße 25
DESCRIPTION:https://www2.bistum-augsburg.de/gottesdienste/rosenkranz-im-hau
 s-st-josef-in-der-nebelhornstrasse-25_id1716204
DTSTART;TZID=Europe/Berlin:20260504T161500
DURATION:PT30M
LOCATION:Zwölf Apostel
END:VEVENT
END:VCALENDAR
