BEGIN:VCALENDAR
VERSION:2.0
PRODID:-//Sabre//Sabre VObject 4.5.8//EN
CALSCALE:GREGORIAN
BEGIN:VEVENT
UID:sabre-vobject-a6d12ab6-4380-432a-b905-5053d9ea873e
DTSTAMP:20260425T125125Z
SUMMARY:Rosenkranz
DESCRIPTION:https://www2.bistum-augsburg.de/gottesdienste/rosenkranz_id1716
 220
DTSTART;TZID=Europe/Berlin:20260903T083000
DURATION:PT30M
LOCATION:Don Bosco
END:VEVENT
END:VCALENDAR
