BEGIN:VCALENDAR
VERSION:2.0
PRODID:-//Sabre//Sabre VObject 4.5.8//EN
CALSCALE:GREGORIAN
BEGIN:VEVENT
UID:sabre-vobject-522dacc3-eb2f-4987-a066-736cd941a60c
DTSTAMP:20260424T134808Z
SUMMARY:Morgengebet der Gemeinde / KDFB Lebenslang aktiv
DESCRIPTION:https://www2.bistum-augsburg.de/gottesdienste/morgengebet-der-g
 emeinde-kdfb-lebenslang-aktiv_id1716222
DTSTART;TZID=Europe/Berlin:20260505T080000
DURATION:PT30M
LOCATION:St. Elisabeth
END:VEVENT
END:VCALENDAR
